BEGIN:VCALENDAR
VERSION:2.0
PRODID:-//hacksw/handcal//NONSGML v1.0//EN
BEGIN:VEVENT
DTSTAMP:20200228T180000Z
DTSTART:20200228T180000Z
DTEND:20200228T180000Z
LOCATION:"Thomsens Peerstall", Am Teich 11, Kiel, 24145, Deutschland
SUMMARY:OV Kronsburg/Meimersdorf/Moorsee & Elmschenhagen/Wellsee: Grünkohlessen
END:VEVENT
END:VCALENDAR
