BEGIN:VCALENDAR
VERSION:2.0
PRODID:-//hacksw/handcal//NONSGML v1.0//EN
BEGIN:VEVENT
DTSTAMP:20200512T170000Z
DTSTART:20200512T170000Z
DTEND:20200512T170000Z
LOCATION:Forstbaumschule, Düvelsbeker Weg 46, Kiel, Deutschland
SUMMARY:OV Westufer/Ravensberg: Stammtisch mit Probst Dr. Benner
END:VEVENT
END:VCALENDAR
