BEGIN:VCALENDAR
VERSION:2.0
PRODID:-//hacksw/handcal//NONSGML v1.0//EN
BEGIN:VEVENT
DTSTAMP:20200807T170000Z
DTSTART:20200807T170000Z
DTEND:20200807T170000Z
LOCATION:Restaurant Luzifer Foerdeblick, Kanalstraße 85, Kiel, 24159, Deutschland
SUMMARY:OV Holtenau/Friedrichsort: Mitgliederversammlung 
END:VEVENT
END:VCALENDAR
