BEGIN:VCALENDAR
VERSION:2.0
PRODID:-//hacksw/handcal//NONSGML v1.0//EN
BEGIN:VEVENT
DTSTAMP:20260606T080000Z
DTSTART:20260606T080000Z
DTEND:20260606T150000Z
LOCATION:Grünfläche Hasseerstraße/Ecke Uhlenkrog, Deutschland
SUMMARY:Infostand beim Stadtteilfest | OV Süd
END:VEVENT
END:VCALENDAR
