BEGIN:VCALENDAR
VERSION:2.0
PRODID:-//hacksw/handcal//NONSGML v1.0//EN
BEGIN:VEVENT
DTSTAMP:20260506T161500Z
DTSTART:20260506T161500Z
DTEND:20260506T161500Z
LOCATION:Treffpunkt: Ernst-Barlach-Gymnasium, Charles-Roß-Ring 53, Kiel, 24106, Deutschland
SUMMARY:„Einmal um den Block” mit Ratsfrau Antonia Grage in Steenbek-Projensdorf
END:VEVENT
END:VCALENDAR
