BEGIN:VCALENDAR
VERSION:2.0
PRODID:-//hacksw/handcal//NONSGML v1.0//EN
BEGIN:VEVENT
DTSTAMP:20260507T170000Z
DTSTART:20260507T170000Z
DTEND:20260507T170000Z
LOCATION:Restaurant „La Tavernetta“, Projensdorfer Straße 251, Kiel, 24106, Deutschland
SUMMARY:Stammtisch zur Rückkehr der Bundeswehr in die Wik und ganz Kiel | OV Wik/S.
END:VEVENT
END:VCALENDAR
