BEGIN:VCALENDAR
VERSION:2.0
PRODID:-//hacksw/handcal//NONSGML v1.0//EN
BEGIN:VEVENT
DTSTAMP:20260520T160000Z
DTSTART:20260520T160000Z
DTEND:20260520T160000Z
LOCATION:Treffpunkt: Bäckerei Günther , Olshausenstraße 77, Kiel, 24106, Deutschland
SUMMARY:„Einmal um den Block“ mit Ratsfrau Grage und Ratsherr Roick in Klausbrook
END:VEVENT
END:VCALENDAR
