BEGIN:VCALENDAR
VERSION:2.0
PRODID:-//hacksw/handcal//NONSGML v1.0//EN
BEGIN:VEVENT
DTSTAMP:20190514T170000Z
DTSTART:20190514T170000Z
DTEND:20190514T170000Z
LOCATION:Wissenschaftszentrum Kiel, Fraunhoferstr. 13, Kiel, 24118, Deutschland
SUMMARY:Arbeitskreis Digitales Kiel: 2. Veranstaltung "Smart City"
END:VEVENT
END:VCALENDAR
