BEGIN:VCALENDAR
VERSION:2.0
PRODID:-//hacksw/handcal//NONSGML v1.0//EN
BEGIN:VEVENT
DTSTAMP:20190730T173000Z
DTSTART:20190730T173000Z
DTEND:20190730T173000Z
LOCATION:CDU Kreisgeschäftsstelle, Sophienblatt 44-46, Kiel, 24114, Deutschland
SUMMARY:kpv: Kommunalpolitischer Abend
END:VEVENT
END:VCALENDAR
