BEGIN:VCALENDAR
VERSION:2.0
PRODID:-//hacksw/handcal//NONSGML v1.0//EN
BEGIN:VEVENT
DTSTAMP:20260428T163000Z
DTSTART:20260428T163000Z
DTEND:20260428T163000Z
LOCATION:digital, Deutschland
SUMMARY:Digitale mitgliederoffene Vorstandssitzung mit Stammtisch | OV Süd
END:VEVENT
BEGIN:VEVENT
DTSTAMP:20260501T090000Z
DTSTART:20260501T090000Z
DTEND:20260501T090000Z
LOCATION:Innenhof Bürgerhaus Kronshagen, Kopperpahler Allee 69, Kronshagen, 24119, Deutschland
SUMMARY:Jazzfrühschoppen | CDU Kronshagen
END:VEVENT
BEGIN:VEVENT
DTSTAMP:20260501T093000Z
DTSTART:20260501T093000Z
DTEND:20260501T093000Z
LOCATION:Gasthaus „Zur Guten Quelle“, Königsförder Weg 11, Kiel, 24109, Deutschland
SUMMARY:Traditioneller Maifrühschoppen | OV Mettenhof/OV Gaarden/CDA/OMV
END:VEVENT
BEGIN:VEVENT
DTSTAMP:20260506T161500Z
DTSTART:20260506T161500Z
DTEND:20260506T161500Z
LOCATION:Treffpunkt: Ernst-Barlach-Gymnasium, Charles-Roß-Ring 53, Kiel, 24106, Deutschland
SUMMARY:„Einmal um den Block” mit Ratsfrau Antonia Grage in Steenbek-Projensdorf
END:VEVENT
BEGIN:VEVENT
DTSTAMP:20260507T170000Z
DTSTART:20260507T170000Z
DTEND:20260507T170000Z
LOCATION:Restaurant „La Tavernetta“, Projensdorfer Straße 251, Kiel, 24106, Deutschland
SUMMARY:Stammtisch zur Rückkehr der Bundeswehr in die Wik und ganz Kiel | OV Wik/S.
END:VEVENT
BEGIN:VEVENT
DTSTAMP:20260509T163000Z
DTSTART:20260509T163000Z
DTEND:20260509T163000Z
LOCATION:THW-Vereinsheim, Krummbogen 77-79, Kiel, 24113, Deutschland
SUMMARY:Spargelessen | OV Mitte und OV Süd
END:VEVENT
BEGIN:VEVENT
DTSTAMP:20260513T130000Z
DTSTART:20260513T130000Z
DTEND:20260513T130000Z
LOCATION:Karolinenweg 1, Kiel, 24105, Deutschland
SUMMARY:Besuch Landesbeauftragte f. Menschen m. Behinderungen | Senioren Union
END:VEVENT
BEGIN:VEVENT
DTSTAMP:20260520T160000Z
DTSTART:20260520T160000Z
DTEND:20260520T160000Z
LOCATION:Schiffercafe, Tiessenkai 9, Kiel, 24159, Deutschland
SUMMARY:Stammtisch | OV Nord
END:VEVENT
BEGIN:VEVENT
DTSTAMP:20260520T160000Z
DTSTART:20260520T160000Z
DTEND:20260520T160000Z
LOCATION:NDTSV Holsatia Vereinsheim "bei Carmen", Strohredder 17, Kiel, 24149, Deutschland
SUMMARY:Jahreshauptversammlung mit anschließendem Stammtisch | OV Ostufer
END:VEVENT
BEGIN:VEVENT
DTSTAMP:20260520T160000Z
DTSTART:20260520T160000Z
DTEND:20260520T160000Z
LOCATION:Treffpunkt: Bäckerei Günther , Olshausenstraße 77, Kiel, 24106, Deutschland
SUMMARY:„Einmal um den Block“ mit Ratsfrau Grage und Ratsherr Roick in Klausbrook
END:VEVENT
BEGIN:VEVENT
DTSTAMP:20260526T163000Z
DTSTART:20260526T163000Z
DTEND:20260526T163000Z
SUMMARY:Digitale mitgliederoffene Vorstandssitzung mit Stammtisch | OV Süd
END:VEVENT
BEGIN:VEVENT
DTSTAMP:20260528T173000Z
DTSTART:20260528T173000Z
DTEND:20260528T173000Z
LOCATION:Kieler Hockey- und Tennisclub, Kopperpahler Teich 27, Kiel, 24118, Deutschland
SUMMARY:Spargelessen | OV Westufer/Ravensberg und OV Wik/Suchsdorf
END:VEVENT
BEGIN:VEVENT
DTSTAMP:20260530T080000Z
DTSTART:20260530T080000Z
DTEND:20260530T080000Z
LOCATION:Bildungszentrum Mettenhof, Vaasastraße 43, Kiel, 24109, Deutschland
SUMMARY:Wahlkreismitgliederversammlung und Kreisparteitag
END:VEVENT
BEGIN:VEVENT
DTSTAMP:20260602T160000Z
DTSTART:20260602T160000Z
DTEND:20260602T160000Z
LOCATION:Sonderburger Platz, Kiel, 24106, Deutschland
SUMMARY:„Einmal um den Block“ mit Ratsfrau Antonia Grage in der westlichen Wik
END:VEVENT
BEGIN:VEVENT
DTSTAMP:20260606T080000Z
DTSTART:20260606T080000Z
DTEND:20260606T150000Z
LOCATION:Grünfläche Hasseerstraße/Ecke Uhlenkrog, Deutschland
SUMMARY:Infostand beim Stadtteilfest | OV Süd
END:VEVENT
BEGIN:VEVENT
DTSTAMP:20260618T170000Z
DTSTART:20260618T170000Z
DTEND:20260618T170000Z
LOCATION:Restaurant „La Tavernetta“, Projensdorfer Straße 251, Kiel, 24106, Deutschland
SUMMARY:Stammtisch | OV Wik/Suchsdorf
END:VEVENT
BEGIN:VEVENT
DTSTAMP:20260630T163000Z
DTSTART:20260630T163000Z
DTEND:20260630T163000Z
SUMMARY:Digitale mitgliederoffene Vorstandssitzung mit Stammtisch | OV Süd
END:VEVENT
BEGIN:VEVENT
DTSTAMP:20260820T170000Z
DTSTART:20260820T170000Z
DTEND:20260820T170000Z
LOCATION:Restaurant „La Tavernetta“, Projensdorfer Straße 251, Kiel, 24106, Deutschland
SUMMARY:Stammtisch | OV Wik/Suchsdorf
END:VEVENT
BEGIN:VEVENT
DTSTAMP:20260921T170000Z
DTSTART:20260921T170000Z
DTEND:20260921T170000Z
LOCATION:Restaurant „La Tavernetta“, Projensdorfer Straße 251, Kiel, 24106, Deutschland
SUMMARY:Stammtisch | OV Wik/Suchsdorf
END:VEVENT
END:VCALENDAR
